BEGIN:VCALENDAR
VERSION:2.0
PRODID:-//hacksw/handcal//NONSGML v1.0//EN
BEGIN:VEVENT
SUMMARY:Randonnee Malherbes 8 - 12 - 15 et 25 kms
UID:9e658007-97c9-4843-bd9f-1c63463609e1
DTSTART:20260606T220000Z
DTEND:20260607T220000Z
LOCATION:Localisation   
CATEGORIES:Sportif
STATUS:
DESCRIPTION:<p>  Les"Marcheurs Malesherbois" organisent leur
 manifestation annuelle qui aura lieu le <b>dimanche 7 juin
 2026. </b>Comme chaque annee quatre circuits seront proposes avec,
 sur reservation,  possibilite de plateau repas a compter de 13
 heures.</p>
URL;VALUE=URI:https://randosandillon.sportsregions.fr/evenements/2026/06/07/randonnee-malherbes-8-12-15-et-25-kms-2439948
END:VEVENT
END:VCALENDAR
