BEGIN:VCALENDAR
VERSION:2.0
PRODID:-//hacksw/handcal//NONSGML v1.0//EN
BEGIN:VEVENT
SUMMARY:Randonnee Tavers 21-15-11 et 5 km
UID:46f99e13-61eb-414f-80f0-c8bb73da715b
DTSTART:20260502T220000Z
DTEND:20260503T220000Z
LOCATION:Localisation   
CATEGORIES:Sportif
STATUS:
DESCRIPTION:<p><b> Le club « Les Randonneurs des Fontenils »
 vous propose sa « 30eme Balade Taversoise ». Depart : salle de
 la Cerisaie.  Parcours 21 – 15 – 11 et 5 km de 7h00 a 10h00.
 Informations : 06.30.69.46.37 / <a
 href="mailto:lesfontenils@live.fr">lesfontenils@live.fr</a>.</b></p>
URL;VALUE=URI:https://randosandillon.sportsregions.fr/evenements/2026/05/03/randonnee-tavers-21-15-11-et-5-km-2441844
END:VEVENT
END:VCALENDAR
