BEGIN:VCALENDAR
VERSION:2.0
PRODID:-//hacksw/handcal//NONSGML v1.0//EN
BEGIN:VEVENT
SUMMARY:Randonnee Lailly en Val 22-14-10-5 km
UID:c8458903-d22a-480b-ae82-432ca06a73e0
DTSTART:20260425T220000Z
DTEND:20260426T220000Z
LOCATION:Localisation   
CATEGORIES:Sportif
STATUS:
DESCRIPTION:<p><b>Le club ALC Rando Lailly en Val » vous propose sa
 « Randonnee autour de Lailly en Val ». Depart : complexe de la
 Lisotte, route de Moncay de 7h00 a 9h00. Parcours : 22 – 14 – 10
 et 5 km. Informations : 06.07.17.27.01 /<a
 href="mailto:alclailly@gmail.com">alclailly@gmail.com</a>.</b></p>
URL;VALUE=URI:https://randosandillon.sportsregions.fr/evenements/2026/04/26/randonnee-lailly-en-val-22-14-10-5-km-2434824
END:VEVENT
END:VCALENDAR
