BEGIN:VCALENDAR
VERSION:2.0
PRODID:-//hacksw/handcal//NONSGML v1.0//EN
BEGIN:VEVENT
SUMMARY:Reunion du CA
UID:3af0df78-f409-4476-8ff7-e83e2ef575ad
DTSTART:20260318T230000Z
DTEND:20260319T230000Z
LOCATION:Localisation   
CATEGORIES:Sportif
STATUS:
URL;VALUE=URI:https://randosandillon.sportsregions.fr/evenements/2026/03/19/reunion-du-ca-2424852
END:VEVENT
END:VCALENDAR
